BEGIN:VCALENDAR
VERSION:2.0
PRODID:-//Squarespace Inc/Squarespace 6//v6//EN
BEGIN:VEVENT
UID:5952ac6486e6c07976d54fe7@squarespace.com
DTSTAMP:20170906T090731Z
DTSTART:20171201T203000Z
DTEND:20171202T160000Z
SUMMARY:ich schaffs - Praxisworkshop in Bad Tölz
GEO:47.755862;11.579015
LOCATION:eMotion-Base der Sportjugendherberge Bad Tölz\, Am Sportark 4\, 83
 646 Bad Tölz\, germany
END:VEVENT
END:VCALENDAR
